BEGIN:VCALENDAR
VERSION:2.0
PRODID:-//MRSPTU Central Library - ECPv5.1.4//NONSGML v1.0//EN
CALSCALE:GREGORIAN
METHOD:PUBLISH
X-WR-CALNAME:MRSPTU Central Library
X-ORIGINAL-URL:https://library.mrsptu.ac.in
X-WR-CALDESC:Events for MRSPTU Central Library
BEGIN:VTIMEZONE
TZID:UTC
BEGIN:STANDARD
TZOFFSETFROM:+0000
TZOFFSETTO:+0000
TZNAME:UTC
DTSTART:20260101T000000
END:STANDARD
END:VTIMEZONE
BEGIN:VEVENT
DTSTART;TZID=UTC:20260310T140000
DTEND;TZID=UTC:20260310T150000
DTSTAMP:20260419T221425
CREATED:20240220T053546Z
LAST-MODIFIED:20260220T052840Z
UID:76709-1773151200-1773154800@library.mrsptu.ac.in
SUMMARY:Eassy Writing Competition
DESCRIPTION:MRSPTU NDLI club organising Eassy Writing Competition on 10th March\, 2024 at 2pm to 3pm. Only NDLI Club members can participate in the event. For more details\, Kindly contact to Central Library Staff. \n
URL:https://library.mrsptu.ac.in/event/eassy-writing-competition/
LOCATION:Central Library\, MRSPTU\, Bathinda\, Punjab
CATEGORIES:Event
ORGANIZER;CN="MRSPTU%20CENTRAL%20LIBRARY":MAILTO:librarian@mrsptu.ac.in
END:VEVENT
END:VCALENDAR