BEGIN:VCALENDAR
VERSION:2.0
PRODID:-//MRSPTU Central Library - ECPv5.1.4//NONSGML v1.0//EN
CALSCALE:GREGORIAN
METHOD:PUBLISH
X-WR-CALNAME:MRSPTU Central Library
X-ORIGINAL-URL:https://library.mrsptu.ac.in
X-WR-CALDESC:Events for MRSPTU Central Library
BEGIN:VTIMEZONE
TZID:UTC
BEGIN:STANDARD
TZOFFSETFROM:+0000
TZOFFSETTO:+0000
TZNAME:UTC
DTSTART:20240101T000000
END:STANDARD
END:VTIMEZONE
BEGIN:VEVENT
DTSTART;TZID=UTC:20240305T100000
DTEND;TZID=UTC:20240305T110000
DTSTAMP:20260422T084631
CREATED:20240118T043855Z
LAST-MODIFIED:20240220T053325Z
UID:76687-1709632800-1709636400@library.mrsptu.ac.in
SUMMARY:NDLI Quiz Competition
DESCRIPTION: \n  \nMRSPTU NDLI Club is organising NDLI Quiz Competition for all department students. Every department has one team (three students). All participants should be member of MRSPTU NDLI Club. In this concerned\, kindly contact to library staff. Brife rules will be announced shortly. Firstly\, MRSPTU NDLI Club will organised general writen quiz (30 marks and 30 questions). First four team’s  will be conducted a final quiz. Final dates will be announced shortly\, but tentative dates are as follows: \n
URL:https://library.mrsptu.ac.in/event/nqc/
LOCATION:Central Library\, MRSPTU\, Bathinda\, Punjab
CATEGORIES:Event
ATTACH;FMTTYPE=image/jpeg:https://library.mrsptu.ac.in/wp-content/uploads/2024/01/quiz.jpg
ORGANIZER;CN="MRSPTU%20CENTRAL%20LIBRARY":MAILTO:librarian@mrsptu.ac.in
END:VEVENT
END:VCALENDAR