BEGIN:VCALENDAR
VERSION:2.0
PRODID:-//MRSPTU Central Library - ECPv5.1.4//NONSGML v1.0//EN
CALSCALE:GREGORIAN
METHOD:PUBLISH
X-WR-CALNAME:MRSPTU Central Library
X-ORIGINAL-URL:https://library.mrsptu.ac.in
X-WR-CALDESC:Events for MRSPTU Central Library
BEGIN:VTIMEZONE
TZID:UTC
BEGIN:STANDARD
TZOFFSETFROM:+0000
TZOFFSETTO:+0000
TZNAME:UTC
DTSTART:20260101T000000
END:STANDARD
END:VTIMEZONE
BEGIN:VEVENT
DTSTART;TZID=UTC:20260306T140000
DTEND;TZID=UTC:20260306T150000
DTSTAMP:20260419T221427
CREATED:20240220T055123Z
LAST-MODIFIED:20260220T053044Z
UID:76715-1772805600-1772809200@library.mrsptu.ac.in
SUMMARY:Poem Writing Comptition
DESCRIPTION:MRSPTU NDLI Club is ogranising Poem Writing Competition on 6th March\, 2026 at 2pm to 3pm. Only NDLI Club members can participate in the event. For more details\, Kindly contact to Central Library Staff. \n
URL:https://library.mrsptu.ac.in/event/poem-writing-comptition/
LOCATION:Central Library\, MRSPTU\, Bathinda\, Punjab
CATEGORIES:Event
ORGANIZER;CN="MRSPTU%20CENTRAL%20LIBRARY":MAILTO:librarian@mrsptu.ac.in
END:VEVENT
END:VCALENDAR