BEGIN:VCALENDAR
VERSION:2.0
PRODID:-//MRSPTU Central Library - ECPv5.1.4//NONSGML v1.0//EN
CALSCALE:GREGORIAN
METHOD:PUBLISH
X-WR-CALNAME:MRSPTU Central Library
X-ORIGINAL-URL:https://library.mrsptu.ac.in
X-WR-CALDESC:Events for MRSPTU Central Library
BEGIN:VTIMEZONE
TZID:UTC
BEGIN:STANDARD
TZOFFSETFROM:+0000
TZOFFSETTO:+0000
TZNAME:UTC
DTSTART:20250101T000000
END:STANDARD
END:VTIMEZONE
BEGIN:VEVENT
DTSTART;TZID=UTC:20251207T113000
DTEND;TZID=UTC:20251207T123000
DTSTAMP:20260420T025353
CREATED:20180704T064236Z
LAST-MODIFIED:20250721T044054Z
UID:2503-1765107000-1765110600@library.mrsptu.ac.in
SUMMARY:Lectures
DESCRIPTION:University Central Library is organizing Lecturers from time to time for the development of its users. Dr. Iqbal Singh Brar\, Librarian and Dr. Malkeet Singh will deliver Lecturer on the topic of “How to check Plagiarism : Drillbit” and Remote Access of E-Journals.  All the users are requested to attend the programme. \n  \n
URL:https://library.mrsptu.ac.in/event/lectures/
LOCATION:Central Library\, MRSPTU\, Bathinda\, Punjab
CATEGORIES:Event
ATTACH;FMTTYPE=image/jpeg:https://library.mrsptu.ac.in/wp-content/uploads/2018/07/lec.jpg
ORGANIZER;CN="MRSPTU%20CENTRAL%20LIBRARY":MAILTO:librarian@mrsptu.ac.in
END:VEVENT
END:VCALENDAR