BEGIN:VCALENDAR
VERSION:2.0
PRODID:-//MRSPTU Central Library - ECPv5.1.4//NONSGML v1.0//EN
CALSCALE:GREGORIAN
METHOD:PUBLISH
X-WR-CALNAME:MRSPTU Central Library
X-ORIGINAL-URL:https://library.mrsptu.ac.in
X-WR-CALDESC:Events for MRSPTU Central Library
BEGIN:VTIMEZONE
TZID:UTC
BEGIN:STANDARD
TZOFFSETFROM:+0000
TZOFFSETTO:+0000
TZNAME:UTC
DTSTART:20250101T000000
END:STANDARD
END:VTIMEZONE
BEGIN:VEVENT
DTSTART;TZID=UTC:20251226T093000
DTEND;TZID=UTC:20251226T173000
DTSTAMP:20260420T025505
CREATED:20180704T063449Z
LAST-MODIFIED:20250721T043802Z
UID:2496-1766741400-1766770200@library.mrsptu.ac.in
SUMMARY:Training Programs
DESCRIPTION:  \nMRSPTU Central Library is going to organizes Training Session on Koha and DSpace. \n  \n
URL:https://library.mrsptu.ac.in/event/training-programs/
LOCATION:Central Library\, MRSPTU\, Bathinda\, Punjab
CATEGORIES:Event
ATTACH;FMTTYPE=image/jpeg:https://library.mrsptu.ac.in/wp-content/uploads/2018/07/i.jpg
ORGANIZER;CN="MRSPTU%20CENTRAL%20LIBRARY":MAILTO:librarian@mrsptu.ac.in
END:VEVENT
END:VCALENDAR