BEGIN:VCALENDAR
VERSION:2.0
PRODID:-//MRSPTU Central Library - ECPv5.1.4//NONSGML v1.0//EN
CALSCALE:GREGORIAN
METHOD:PUBLISH
X-WR-CALNAME:MRSPTU Central Library
X-ORIGINAL-URL:https://library.mrsptu.ac.in
X-WR-CALDESC:Events for MRSPTU Central Library
BEGIN:VTIMEZONE
TZID:UTC
BEGIN:STANDARD
TZOFFSETFROM:+0000
TZOFFSETTO:+0000
TZNAME:UTC
DTSTART:20260101T000000
END:STANDARD
END:VTIMEZONE
BEGIN:VEVENT
DTSTART;TZID=UTC:20260311T110000
DTEND;TZID=UTC:20260311T123000
DTSTAMP:20260419T222245
CREATED:20260220T054449Z
LAST-MODIFIED:20260220T054449Z
UID:77659-1773226800-1773232200@library.mrsptu.ac.in
SUMMARY:NDLI Awareness Programme
DESCRIPTION:MRSPTU NDLI club organising NDLI Awareness Programme on 11th March\, 2026 at 11am to 12.30pm. Only NDLI Club members can participate in the event. For more details\, Kindly contact to Central Library Staff. \n
URL:https://library.mrsptu.ac.in/event/ndli-awareness-programme/
LOCATION:Central Library\, MRSPTU\, Bathinda\, Punjab
CATEGORIES:Event
ORGANIZER;CN="MRSPTU%20CENTRAL%20LIBRARY":MAILTO:librarian@mrsptu.ac.in
END:VEVENT
BEGIN:VEVENT
DTSTART;TZID=UTC:20260311T140000
DTEND;TZID=UTC:20260311T150000
DTSTAMP:20260419T222245
CREATED:20260220T054723Z
LAST-MODIFIED:20260220T054723Z
UID:77661-1773237600-1773241200@library.mrsptu.ac.in
SUMMARY:ONOS E-Journals Awareness Programme
DESCRIPTION:MRSPTU NDLI club organising Eassy Writing Competition on 11th March\, 2026 at 2pm to 3pm. Only NDLI Club members can participate in the event. For more details\, Kindly contact to Central Library Staff. \n
URL:https://library.mrsptu.ac.in/event/onos-e-journals-awareness-programme/
LOCATION:Central Library\, MRSPTU\, Bathinda\, Punjab
CATEGORIES:Event
ORGANIZER;CN="MRSPTU%20CENTRAL%20LIBRARY":MAILTO:librarian@mrsptu.ac.in
END:VEVENT
END:VCALENDAR